BEGIN:VCALENDAR
VERSION:2.0
PRODID:-//Wun Hop Kuen Do - ECPv6.6.4.2//NONSGML v1.0//EN
CALSCALE:GREGORIAN
METHOD:PUBLISH
X-ORIGINAL-URL:https://whkd.de
X-WR-CALDESC:Veranstaltungen für Wun Hop Kuen Do
REFRESH-INTERVAL;VALUE=DURATION:PT1H
X-Robots-Tag:noindex
X-PUBLISHED-TTL:PT1H
BEGIN:VTIMEZONE
TZID:Europe/Berlin
BEGIN:DAYLIGHT
TZOFFSETFROM:+0100
TZOFFSETTO:+0200
TZNAME:CEST
DTSTART:20260329T010000
END:DAYLIGHT
BEGIN:STANDARD
TZOFFSETFROM:+0200
TZOFFSETTO:+0100
TZNAME:CET
DTSTART:20261025T010000
END:STANDARD
END:VTIMEZONE
BEGIN:VEVENT
DTSTART;TZID=Europe/Berlin:20260207T110000
DTEND;TZID=Europe/Berlin:20260207T130000
DTSTAMP:20260422T035747
CREATED:20260116T111132Z
LAST-MODIFIED:20260116T111132Z
UID:5963-1770462000-1770469200@whkd.de
SUMMARY:WHKD - FightClub (Bahrenfeld)
DESCRIPTION:
URL:https://whkd.de/termin/whkd-fightclub-bahrenfeld/
LOCATION:KungFu Schule Bahrenfeld\, Friesenweg 5/Haus 2\, Hamburg\, 22763
END:VEVENT
BEGIN:VEVENT
DTSTART;TZID=Europe/Berlin:20260214T110000
DTEND;TZID=Europe/Berlin:20260214T140000
DTSTAMP:20260422T035747
CREATED:20260116T111423Z
LAST-MODIFIED:20260116T111423Z
UID:5966-1771066800-1771077600@whkd.de
SUMMARY:WHKD Techniken Seminar (Taiyo Sportcenter)
DESCRIPTION:
URL:https://whkd.de/termin/whkd-techniken-seminar-taiyo-sportcenter/
LOCATION:Taiyo Sport Center\, Holstenstraße 79\, Hamburg\, 22767\, Deutschland
END:VEVENT
BEGIN:VEVENT
DTSTART;TZID=Europe/Berlin:20260222T110000
DTEND;TZID=Europe/Berlin:20260222T130000
DTSTAMP:20260422T035747
CREATED:20251030T194310Z
LAST-MODIFIED:20251030T194310Z
UID:5924-1771758000-1771765200@whkd.de
SUMMARY:WHKD - Kadertraining
DESCRIPTION:Anmeldung nur in Absprache über euren Lehrer möglich!
URL:https://whkd.de/termin/whkd-kadertraining-3/
LOCATION:Taiyo Sport Center\, Holstenstraße 79\, Hamburg\, 22767\, Deutschland
END:VEVENT
END:VCALENDAR