BEGIN:VCALENDAR
VERSION:2.0
PRODID:-//Wun Hop Kuen Do - ECPv6.6.4.2//NONSGML v1.0//EN
CALSCALE:GREGORIAN
METHOD:PUBLISH
X-ORIGINAL-URL:https://whkd.de
X-WR-CALDESC:Veranstaltungen für Wun Hop Kuen Do
REFRESH-INTERVAL;VALUE=DURATION:PT1H
X-Robots-Tag:noindex
X-PUBLISHED-TTL:PT1H
BEGIN:VTIMEZONE
TZID:Europe/Berlin
BEGIN:DAYLIGHT
TZOFFSETFROM:+0100
TZOFFSETTO:+0200
TZNAME:CEST
DTSTART:20250330T010000
END:DAYLIGHT
BEGIN:STANDARD
TZOFFSETFROM:+0200
TZOFFSETTO:+0100
TZNAME:CET
DTSTART:20251026T010000
END:STANDARD
END:VTIMEZONE
BEGIN:VEVENT
DTSTART;TZID=Europe/Berlin:20250914T110000
DTEND;TZID=Europe/Berlin:20250914T130000
DTSTAMP:20260421T203514
CREATED:20250903T075648Z
LAST-MODIFIED:20250903T080414Z
UID:5877-1757847600-1757854800@whkd.de
SUMMARY:DWKV e.V. – Kadertraining
DESCRIPTION:
URL:https://whkd.de/termin/dwkv-e-v-kadertraining-5/
LOCATION:Kampfkunst Akademie Barmbek\, Haferkamp 2\, Hamburg\, 22081\, Deutschland
END:VEVENT
BEGIN:VEVENT
DTSTART;TZID=Europe/Berlin:20250927T120000
DTEND;TZID=Europe/Berlin:20250927T150000
DTSTAMP:20260421T203514
CREATED:20250711T090455Z
LAST-MODIFIED:20250812T063845Z
UID:5850-1758974400-1758985200@whkd.de
SUMMARY:DWKV e.V. - Schul- und Gruppenleitertreffen
DESCRIPTION:
URL:https://whkd.de/termin/dwkv-e-v-schul-und-gruppenleitertreffen/
LOCATION:Landgasthof Braaker Krug\, Am Spötzen 1\, Braak\, 22145\, Deutschland
END:VEVENT
END:VCALENDAR