BEGIN:VCALENDAR
VERSION:2.0
PRODID:-//Wun Hop Kuen Do - ECPv6.6.4.2//NONSGML v1.0//EN
CALSCALE:GREGORIAN
METHOD:PUBLISH
X-WR-CALNAME:Wun Hop Kuen Do
X-ORIGINAL-URL:https://whkd.de
X-WR-CALDESC:Veranstaltungen für Wun Hop Kuen Do
REFRESH-INTERVAL;VALUE=DURATION:PT1H
X-Robots-Tag:noindex
X-PUBLISHED-TTL:PT1H
BEGIN:VTIMEZONE
TZID:Europe/Berlin
BEGIN:DAYLIGHT
TZOFFSETFROM:+0100
TZOFFSETTO:+0200
TZNAME:CEST
DTSTART:20240331T010000
END:DAYLIGHT
BEGIN:STANDARD
TZOFFSETFROM:+0200
TZOFFSETTO:+0100
TZNAME:CET
DTSTART:20241027T010000
END:STANDARD
END:VTIMEZONE
BEGIN:VEVENT
DTSTART;TZID=Europe/Berlin:20241026T120000
DTEND;TZID=Europe/Berlin:20241026T150000
DTSTAMP:20260421T220225
CREATED:20240830T052819Z
LAST-MODIFIED:20240830T052819Z
UID:5643-1729944000-1729954800@whkd.de
SUMMARY:Jahreshauptversammlung 2024
DESCRIPTION:
URL:https://whkd.de/termin/jahreshauptversammlung-2024/
LOCATION:KungFu Schule Bahrenfeld\, Friesenweg 5/Haus 2\, Hamburg\, 22763
END:VEVENT
END:VCALENDAR