BEGIN:VCALENDAR
VERSION:2.0
PRODID:-//Wun Hop Kuen Do - ECPv6.6.4.2//NONSGML v1.0//EN
CALSCALE:GREGORIAN
METHOD:PUBLISH
X-ORIGINAL-URL:https://whkd.de
X-WR-CALDESC:Veranstaltungen für Wun Hop Kuen Do
REFRESH-INTERVAL;VALUE=DURATION:PT1H
X-Robots-Tag:noindex
X-PUBLISHED-TTL:PT1H
BEGIN:VTIMEZONE
TZID:Europe/Berlin
BEGIN:DAYLIGHT
TZOFFSETFROM:+0100
TZOFFSETTO:+0200
TZNAME:CEST
DTSTART:20260329T010000
END:DAYLIGHT
BEGIN:STANDARD
TZOFFSETFROM:+0200
TZOFFSETTO:+0100
TZNAME:CET
DTSTART:20261025T010000
END:STANDARD
END:VTIMEZONE
BEGIN:VEVENT
DTSTART;TZID=Europe/Berlin:20260322T110000
DTEND;TZID=Europe/Berlin:20260322T130000
DTSTAMP:20260422T065943
CREATED:20251030T194424Z
LAST-MODIFIED:20251030T194424Z
UID:5927-1774177200-1774184400@whkd.de
SUMMARY:WHKD - Kadertraining
DESCRIPTION:Anmeldung nur in Absprache über euren Lehrer möglich!
URL:https://whkd.de/termin/whkd-kadertraining-4/
LOCATION:Taiyo Sport Center\, Holstenstraße 79\, Hamburg\, 22767\, Deutschland
END:VEVENT
END:VCALENDAR