BEGIN:VCALENDAR
VERSION:2.0
PRODID:-//Wun Hop Kuen Do - ECPv6.6.4.2//NONSGML v1.0//EN
CALSCALE:GREGORIAN
METHOD:PUBLISH
X-WR-CALNAME:Wun Hop Kuen Do
X-ORIGINAL-URL:https://whkd.de
X-WR-CALDESC:Veranstaltungen für Wun Hop Kuen Do
REFRESH-INTERVAL;VALUE=DURATION:PT1H
X-Robots-Tag:noindex
X-PUBLISHED-TTL:PT1H
BEGIN:VTIMEZONE
TZID:Europe/Berlin
BEGIN:DAYLIGHT
TZOFFSETFROM:+0100
TZOFFSETTO:+0200
TZNAME:CEST
DTSTART:20250330T010000
END:DAYLIGHT
BEGIN:STANDARD
TZOFFSETFROM:+0200
TZOFFSETTO:+0100
TZNAME:CET
DTSTART:20251026T010000
END:STANDARD
END:VTIMEZONE
BEGIN:VEVENT
DTSTART;TZID=Europe/Berlin:20250525T110000
DTEND;TZID=Europe/Berlin:20250525T200000
DTSTAMP:20260421T161900
CREATED:20250203T104209Z
LAST-MODIFIED:20250524T140814Z
UID:5703-1748170800-1748203200@whkd.de
SUMMARY:50 Jahre "WUN HOP KUEN DO" in Deutschland
DESCRIPTION:Die Onlinevoranmeldung ist geschlossen!\nBitte meldet euch einfach morgen an der Tageskasse. Danke.\n  \n  \nWillkommen auf Gut Basthorst! \nWir haben uns bewußt zur 50 Jahre  „Wun Hop Kuen Do“ Feier für einen besonderen Ort entschieden\, der viele Möglichkeiten bietet. Auch für die Fahrer und Zuschauer bieten sich hier viele zusätzliche Möglichkeiten einen Interessanten Tag zu erleben. Das Restaurant und der Rosengarten haben für euch geöffnet und es gibt auch sonst viel zu sehenauf dem Gut Basthorst\, desweiteren haben wir hier besonders viele Parkmöglichkeiten und eine tolle Outdoortrainingsfläche\, mit der Optionbei schlechtem Wetter die Seminare auch Indoor durchzuführen. Alles liegt nah beieinander so das auch Familien miteinander einen schönenTag dort verbringen können. \nDas Restaurant hat den ganzen Tag geöffnet!  \nUnser Restaurant zum Pferdestall des Kulturdenkmals Gut Basthorst steht für regionale\, hochwertige und vor allem köstliche Gerichte – Klassiker wie saftiges Roastbeef an Basthorster Bratkartoffeln ebenso wie leichte\, knackige Salate oder vegane Bowls.Machen Sie es sich in den historischen Stallungen des ehemaligen Pferdestalls gemütlich oder lassen Sie den Tag in unserem idyllischen Rosengarten direkt am Hofteich bei einem guten Glas Wein ausklingen.
URL:https://whkd.de/termin/50-jahre-wun-hop-kuen-do-in-deutschland/
LOCATION:Gut Basthorst\, Auf dem Gut 3\, Basthorst\, 21493\, Germany
END:VEVENT
END:VCALENDAR