BEGIN:VCALENDAR
VERSION:2.0
PRODID:-//Wun Hop Kuen Do - ECPv6.6.4.2//NONSGML v1.0//EN
CALSCALE:GREGORIAN
METHOD:PUBLISH
X-WR-CALNAME:Wun Hop Kuen Do
X-ORIGINAL-URL:https://whkd.de
X-WR-CALDESC:Veranstaltungen für Wun Hop Kuen Do
REFRESH-INTERVAL;VALUE=DURATION:PT1H
X-Robots-Tag:noindex
X-PUBLISHED-TTL:PT1H
BEGIN:VTIMEZONE
TZID:Europe/Berlin
BEGIN:DAYLIGHT
TZOFFSETFROM:+0100
TZOFFSETTO:+0200
TZNAME:CEST
DTSTART:20250330T010000
END:DAYLIGHT
BEGIN:STANDARD
TZOFFSETFROM:+0200
TZOFFSETTO:+0100
TZNAME:CET
DTSTART:20251026T010000
END:STANDARD
END:VTIMEZONE
BEGIN:VEVENT
DTSTART;TZID=Europe/Berlin:20250517T110000
DTEND;TZID=Europe/Berlin:20250517T170000
DTSTAMP:20260421T161804
CREATED:20241119T151417Z
LAST-MODIFIED:20241119T151417Z
UID:5686-1747479600-1747501200@whkd.de
SUMMARY:DWKV e.V. – Schwarzgurtprüfungen
DESCRIPTION:
URL:https://whkd.de/termin/dwkv-e-v-schwarzgurtpruefungen-2/
END:VEVENT
END:VCALENDAR